BEGIN:VCALENDAR
VERSION:2.0
PRODID:-//Satori School - ECPv6.15.20//NONSGML v1.0//EN
CALSCALE:GREGORIAN
METHOD:PUBLISH
X-WR-CALNAME:Satori School
X-ORIGINAL-URL:https://satorischool.org
X-WR-CALDESC:Events for Satori School
REFRESH-INTERVAL;VALUE=DURATION:PT1H
X-Robots-Tag:noindex
X-PUBLISHED-TTL:PT1H
BEGIN:VTIMEZONE
TZID:America/Phoenix
BEGIN:STANDARD
TZOFFSETFROM:-0700
TZOFFSETTO:-0700
TZNAME:MST
DTSTART:20230101T000000
END:STANDARD
END:VTIMEZONE
BEGIN:VEVENT
DTSTART;TZID=America/Phoenix:20241223T000000
DTEND;TZID=America/Phoenix:20250103T235959
DTSTAMP:20260422T021742
CREATED:20241108T221827Z
LAST-MODIFIED:20241108T221828Z
UID:10000177-1734912000-1735948799@satorischool.org
SUMMARY:Winter Break - No School
DESCRIPTION:No Extended Care
URL:https://satorischool.org/event/winter-break-no-school/
END:VEVENT
BEGIN:VEVENT
DTSTART;TZID=America/Phoenix:20250122T170000
DTEND;TZID=America/Phoenix:20250122T203000
DTSTAMP:20260422T021742
CREATED:20250117T202413Z
LAST-MODIFIED:20250117T210953Z
UID:10000182-1737565200-1737577800@satorischool.org
SUMMARY:Culver's Dine Out Fundraiser
DESCRIPTION:Come join us@ Culver’s for some dineout fun. Spread thtword to friends and family. Come dine with some of yourfavorite staff or drive through and grab food to go. Spin theSatori prize wheel and get some goodies.
URL:https://satorischool.org/event/culvers-dine-out-fundraiser/
CATEGORIES:Fundraiser
END:VEVENT
END:VCALENDAR