BEGIN:VCALENDAR
VERSION:2.0
PRODID:-//Satori School - ECPv6.15.20//NONSGML v1.0//EN
CALSCALE:GREGORIAN
METHOD:PUBLISH
X-WR-CALNAME:Satori School
X-ORIGINAL-URL:https://satorischool.org
X-WR-CALDESC:Events for Satori School
REFRESH-INTERVAL;VALUE=DURATION:PT1H
X-Robots-Tag:noindex
X-PUBLISHED-TTL:PT1H
BEGIN:VTIMEZONE
TZID:America/Phoenix
BEGIN:STANDARD
TZOFFSETFROM:-0700
TZOFFSETTO:-0700
TZNAME:MST
DTSTART:20240101T000000
END:STANDARD
END:VTIMEZONE
BEGIN:VEVENT
DTSTART;TZID=America/Phoenix:20250212T160000
DTEND;TZID=America/Phoenix:20250212T220000
DTSTAMP:20260422T040251
CREATED:20250211T190349Z
LAST-MODIFIED:20250211T202135Z
UID:10000184-1739376000-1739397600@satorischool.org
SUMMARY:Raising Cane's Dine-Out Fundraiser
DESCRIPTION:Join us from 4-10 pm at Raising Cane’s on Oracle Rd for some dinner with friends. \n\n\n\nMention the fundraiser at the Restaurant or apply code RCFUND96 to online or app orders at checkout and Cane’s will donate 15% of Net Sales to Satori! \n\n\n\nPlease share with your friends\, family\, and coworkers. \n\n\n\nClick the image below for a pdf
URL:https://satorischool.org/event/raising-canes-dine-out-fundraiser-2/
LOCATION:Raising Cane’s\, 4219 N Oracle Rd\, Tucson\, 85705
CATEGORIES:Fundraiser
GEO:32.2834015;-110.9785939
X-APPLE-STRUCTURED-LOCATION;VALUE=URI;X-ADDRESS=Raising Cane’s 4219 N Oracle Rd Tucson 85705;X-APPLE-RADIUS=500;X-TITLE=4219 N Oracle Rd:geo:-110.9785939,32.2834015
END:VEVENT
BEGIN:VEVENT
DTSTART;TZID=America/Phoenix:20250219T090000
DTEND;TZID=America/Phoenix:20250219T110000
DTSTAMP:20260422T040251
CREATED:20250205T165306Z
LAST-MODIFIED:20250205T165307Z
UID:10000183-1739955600-1739962800@satorischool.org
SUMMARY:Grandparents and Special Friends Day
DESCRIPTION:February 19th – Satori’s Grandparents and Special Friends Day\n\n \nPlease join your special Child(ren) for a delightful morning of learning and fun at Satori before Rodeo Break!\n \nWednesday\, February 19th\, 2025\n \n9:00-11:00 A.M\n \n3727 N 1St A.ve.\n \nTucson\, A.Z 85719\n \nThere is a limit of 4 grandparents or special friends per Child. Please RSVP by Monday\, February 17th with the child’s name\, grade\, and how many people will be attending. \n \nCharter Families(Grades 2-8) RSVP to Susan Marcus at 520-293-7555 or susan@satorischool.org\n \n Private Families (Preschoo1-1st Grade) RSVP to Mindy at 520-887-4003 or mindy@satorischool.org
URL:https://satorischool.org/event/grandparents-and-special-friends-day/
LOCATION:Satori School Charter Campus\, 3727 N 1st Ave.\, Tucson\, AZ\, 85719\, United States
GEO:32.2745607;-110.9615143
X-APPLE-STRUCTURED-LOCATION;VALUE=URI;X-ADDRESS=Satori School Charter Campus 3727 N 1st Ave. Tucson AZ 85719 United States;X-APPLE-RADIUS=500;X-TITLE=3727 N 1st Ave.:geo:-110.9615143,32.2745607
END:VEVENT
END:VCALENDAR