BEGIN:VCALENDAR
VERSION:2.0
PRODID:-//Satori School - ECPv6.15.20//NONSGML v1.0//EN
CALSCALE:GREGORIAN
METHOD:PUBLISH
X-WR-CALNAME:Satori School
X-ORIGINAL-URL:https://satorischool.org
X-WR-CALDESC:Events for Satori School
REFRESH-INTERVAL;VALUE=DURATION:PT1H
X-Robots-Tag:noindex
X-PUBLISHED-TTL:PT1H
BEGIN:VTIMEZONE
TZID:America/Phoenix
BEGIN:STANDARD
TZOFFSETFROM:-0700
TZOFFSETTO:-0700
TZNAME:MST
DTSTART:20240101T000000
END:STANDARD
END:VTIMEZONE
BEGIN:VEVENT
DTSTART;TZID=America/Phoenix:20250521T130000
DTEND;TZID=America/Phoenix:20250521T130000
DTSTAMP:20260422T091757
CREATED:20250422T204843Z
LAST-MODIFIED:20250422T204844Z
UID:10000194-1747832400-1747832400@satorischool.org
SUMMARY:Last Day of Class - 1pm Release
DESCRIPTION:Last day of class for students. Early release at 1:00 pm.
URL:https://satorischool.org/event/last-day-of-class-1pm-release-2/
LOCATION:Satori School Charter Campus\, 3727 N 1st Ave.\, Tucson\, AZ\, 85719\, United States
GEO:32.2745607;-110.9615143
X-APPLE-STRUCTURED-LOCATION;VALUE=URI;X-ADDRESS=Satori School Charter Campus 3727 N 1st Ave. Tucson AZ 85719 United States;X-APPLE-RADIUS=500;X-TITLE=3727 N 1st Ave.:geo:-110.9615143,32.2745607
END:VEVENT
END:VCALENDAR