BEGIN:VCALENDAR
VERSION:2.0
PRODID:-//Satori School - ECPv6.15.20//NONSGML v1.0//EN
CALSCALE:GREGORIAN
METHOD:PUBLISH
X-WR-CALNAME:Satori School
X-ORIGINAL-URL:https://satorischool.org
X-WR-CALDESC:Events for Satori School
REFRESH-INTERVAL;VALUE=DURATION:PT1H
X-Robots-Tag:noindex
X-PUBLISHED-TTL:PT1H
BEGIN:VTIMEZONE
TZID:America/Phoenix
BEGIN:STANDARD
TZOFFSETFROM:-0700
TZOFFSETTO:-0700
TZNAME:MST
DTSTART:20240101T000000
END:STANDARD
END:VTIMEZONE
BEGIN:VEVENT
DTSTART;TZID=America/Phoenix:20251002T130000
DTEND;TZID=America/Phoenix:20251002T130000
DTSTAMP:20260422T173050
CREATED:20250919T194334Z
LAST-MODIFIED:20250919T194337Z
UID:10000202-1759410000-1759410000@satorischool.org
SUMMARY:Half Day - 1pm Release-Parent Teacher Conferences
DESCRIPTION:
URL:https://satorischool.org/event/half-day-1pm-release-parent-teacher-conferences/
LOCATION:Satori School Charter Campus\, 3727 N 1st Ave.\, Tucson\, AZ\, 85719\, United States
GEO:32.2745607;-110.9615143
X-APPLE-STRUCTURED-LOCATION;VALUE=URI;X-ADDRESS=Satori School Charter Campus 3727 N 1st Ave. Tucson AZ 85719 United States;X-APPLE-RADIUS=500;X-TITLE=3727 N 1st Ave.:geo:-110.9615143,32.2745607
END:VEVENT
BEGIN:VEVENT
DTSTART;TZID=America/Phoenix:20251003T130000
DTEND;TZID=America/Phoenix:20251003T130000
DTSTAMP:20260422T173050
CREATED:20250919T194623Z
LAST-MODIFIED:20250919T194624Z
UID:10000203-1759496400-1759496400@satorischool.org
SUMMARY:Half Day - 1pm Release-Parent Teacher Conferences
DESCRIPTION:
URL:https://satorischool.org/event/half-day-1pm-release-parent-teacher-conferences-2/
LOCATION:Charter Campus\, 3727 N 1st Ave\, Tucson\, AZ\, 85719\, United States
GEO:32.2745607;-110.9615143
X-APPLE-STRUCTURED-LOCATION;VALUE=URI;X-ADDRESS=Charter Campus 3727 N 1st Ave Tucson AZ 85719 United States;X-APPLE-RADIUS=500;X-TITLE=3727 N 1st Ave:geo:-110.9615143,32.2745607
END:VEVENT
BEGIN:VEVENT
DTSTART;TZID=America/Phoenix:20251022T083000
DTEND;TZID=America/Phoenix:20251022T120000
DTSTAMP:20260422T173050
CREATED:20251017T192803Z
LAST-MODIFIED:20251017T192804Z
UID:10000204-1761121800-1761134400@satorischool.org
SUMMARY:School Pictures
DESCRIPTION:
URL:https://satorischool.org/event/school-pictures/
LOCATION:Satori School Charter Campus\, 3727 N 1st Ave.\, Tucson\, AZ\, 85719\, United States
GEO:32.2745607;-110.9615143
X-APPLE-STRUCTURED-LOCATION;VALUE=URI;X-ADDRESS=Satori School Charter Campus 3727 N 1st Ave. Tucson AZ 85719 United States;X-APPLE-RADIUS=500;X-TITLE=3727 N 1st Ave.:geo:-110.9615143,32.2745607
END:VEVENT
BEGIN:VEVENT
DTSTART;TZID=America/Phoenix:20251023T083000
DTEND;TZID=America/Phoenix:20251023T120000
DTSTAMP:20260422T173050
CREATED:20251017T192906Z
LAST-MODIFIED:20251017T192907Z
UID:10000205-1761208200-1761220800@satorischool.org
SUMMARY:School Pictures
DESCRIPTION:
URL:https://satorischool.org/event/school-pictures-2/
LOCATION:Satori School Charter Campus\, 3727 N 1st Ave.\, Tucson\, AZ\, 85719\, United States
GEO:32.2745607;-110.9615143
X-APPLE-STRUCTURED-LOCATION;VALUE=URI;X-ADDRESS=Satori School Charter Campus 3727 N 1st Ave. Tucson AZ 85719 United States;X-APPLE-RADIUS=500;X-TITLE=3727 N 1st Ave.:geo:-110.9615143,32.2745607
END:VEVENT
BEGIN:VEVENT
DTSTART;TZID=America/Phoenix:20251029T090000
DTEND;TZID=America/Phoenix:20251029T120000
DTSTAMP:20260422T173050
CREATED:20250919T193850Z
LAST-MODIFIED:20251015T220041Z
UID:10000200-1761728400-1761739200@satorischool.org
SUMMARY:Fall Festival
DESCRIPTION:
URL:https://satorischool.org/event/fall-festival-2/
LOCATION:Charter Campus\, 3727 N 1st Ave\, Tucson\, AZ\, 85719\, United States
GEO:32.2745607;-110.9615143
X-APPLE-STRUCTURED-LOCATION;VALUE=URI;X-ADDRESS=Charter Campus 3727 N 1st Ave Tucson AZ 85719 United States;X-APPLE-RADIUS=500;X-TITLE=3727 N 1st Ave:geo:-110.9615143,32.2745607
END:VEVENT
BEGIN:VEVENT
DTSTART;TZID=America/Phoenix:20251031T090000
DTEND;TZID=America/Phoenix:20251031T110000
DTSTAMP:20260422T173050
CREATED:20250919T194021Z
LAST-MODIFIED:20250919T194023Z
UID:10000201-1761901200-1761908400@satorischool.org
SUMMARY:Dear Day and Costume Parade
DESCRIPTION:
URL:https://satorischool.org/event/dear-day-and-costume-parade/
LOCATION:Charter Campus\, 3727 N 1st Ave\, Tucson\, AZ\, 85719\, United States
GEO:32.2745607;-110.9615143
X-APPLE-STRUCTURED-LOCATION;VALUE=URI;X-ADDRESS=Charter Campus 3727 N 1st Ave Tucson AZ 85719 United States;X-APPLE-RADIUS=500;X-TITLE=3727 N 1st Ave:geo:-110.9615143,32.2745607
END:VEVENT
END:VCALENDAR