BEGIN:VCALENDAR
VERSION:2.0
PRODID:-//Satori School - ECPv6.15.20//NONSGML v1.0//EN
CALSCALE:GREGORIAN
METHOD:PUBLISH
X-WR-CALNAME:Satori School
X-ORIGINAL-URL:https://satorischool.org
X-WR-CALDESC:Events for Satori School
REFRESH-INTERVAL;VALUE=DURATION:PT1H
X-Robots-Tag:noindex
X-PUBLISHED-TTL:PT1H
BEGIN:VTIMEZONE
TZID:America/Phoenix
BEGIN:STANDARD
TZOFFSETFROM:-0700
TZOFFSETTO:-0700
TZNAME:MST
DTSTART:20240101T000000
END:STANDARD
END:VTIMEZONE
BEGIN:VEVENT
DTSTART;TZID=America/Phoenix:20251222T080000
DTEND;TZID=America/Phoenix:20260102T170000
DTSTAMP:20260425T061134
CREATED:20251017T194410Z
LAST-MODIFIED:20251017T194411Z
UID:10000211-1766390400-1767373200@satorischool.org
SUMMARY:Winter Break - No School
DESCRIPTION:
URL:https://satorischool.org/event/winter-break-no-school-2/
LOCATION:Satori School Charter Campus\, 3727 N 1st Ave.\, Tucson\, AZ\, 85719\, United States
GEO:32.2745607;-110.9615143
X-APPLE-STRUCTURED-LOCATION;VALUE=URI;X-ADDRESS=Satori School Charter Campus 3727 N 1st Ave. Tucson AZ 85719 United States;X-APPLE-RADIUS=500;X-TITLE=3727 N 1st Ave.:geo:-110.9615143,32.2745607
END:VEVENT
BEGIN:VEVENT
DTSTART;TZID=America/Phoenix:20260119T000000
DTEND;TZID=America/Phoenix:20260119T235959
DTSTAMP:20260425T061134
CREATED:20260112T152056Z
LAST-MODIFIED:20260115T203706Z
UID:10000214-1768780800-1768867199@satorischool.org
SUMMARY:No School\, Martin Luther King Jr Day
DESCRIPTION:
URL:https://satorischool.org/event/no-school-martin-luther-king-jr-day/
LOCATION:Satori School Charter Campus\, 3727 N 1st Ave.\, Tucson\, AZ\, 85719\, United States
GEO:32.2745607;-110.9615143
X-APPLE-STRUCTURED-LOCATION;VALUE=URI;X-ADDRESS=Satori School Charter Campus 3727 N 1st Ave. Tucson AZ 85719 United States;X-APPLE-RADIUS=500;X-TITLE=3727 N 1st Ave.:geo:-110.9615143,32.2745607
END:VEVENT
END:VCALENDAR