BEGIN:VCALENDAR
VERSION:2.0
PRODID:-//Satori School - ECPv6.15.20//NONSGML v1.0//EN
CALSCALE:GREGORIAN
METHOD:PUBLISH
X-WR-CALNAME:Satori School
X-ORIGINAL-URL:https://satorischool.org
X-WR-CALDESC:Events for Satori School
REFRESH-INTERVAL;VALUE=DURATION:PT1H
X-Robots-Tag:noindex
X-PUBLISHED-TTL:PT1H
BEGIN:VTIMEZONE
TZID:America/Phoenix
BEGIN:STANDARD
TZOFFSETFROM:-0700
TZOFFSETTO:-0700
TZNAME:MST
DTSTART:20240101T000000
END:STANDARD
END:VTIMEZONE
BEGIN:VEVENT
DTSTART;TZID=America/Phoenix:20251125T100000
DTEND;TZID=America/Phoenix:20251125T130000
DTSTAMP:20260422T090950
CREATED:20251017T193549Z
LAST-MODIFIED:20251017T193552Z
UID:10000208-1764064800-1764075600@satorischool.org
SUMMARY:Thanksgiving Feast - 1pm Release
DESCRIPTION:
URL:https://satorischool.org/event/thanksgiving-feast-1pm-release-2/
LOCATION:Satori School Charter Campus\, 3727 N 1st Ave.\, Tucson\, AZ\, 85719\, United States
GEO:32.2745607;-110.9615143
X-APPLE-STRUCTURED-LOCATION;VALUE=URI;X-ADDRESS=Satori School Charter Campus 3727 N 1st Ave. Tucson AZ 85719 United States;X-APPLE-RADIUS=500;X-TITLE=3727 N 1st Ave.:geo:-110.9615143,32.2745607
END:VEVENT
BEGIN:VEVENT
DTSTART;TZID=America/Phoenix:20251002T130000
DTEND;TZID=America/Phoenix:20251002T130000
DTSTAMP:20260422T090950
CREATED:20250919T194334Z
LAST-MODIFIED:20250919T194337Z
UID:10000202-1759410000-1759410000@satorischool.org
SUMMARY:Half Day - 1pm Release-Parent Teacher Conferences
DESCRIPTION:
URL:https://satorischool.org/event/half-day-1pm-release-parent-teacher-conferences/
LOCATION:Satori School Charter Campus\, 3727 N 1st Ave.\, Tucson\, AZ\, 85719\, United States
GEO:32.2745607;-110.9615143
X-APPLE-STRUCTURED-LOCATION;VALUE=URI;X-ADDRESS=Satori School Charter Campus 3727 N 1st Ave. Tucson AZ 85719 United States;X-APPLE-RADIUS=500;X-TITLE=3727 N 1st Ave.:geo:-110.9615143,32.2745607
END:VEVENT
END:VCALENDAR