BEGIN:VCALENDAR
VERSION:2.0
PRODID:-//Satori School - ECPv6.15.20//NONSGML v1.0//EN
CALSCALE:GREGORIAN
METHOD:PUBLISH
X-WR-CALNAME:Satori School
X-ORIGINAL-URL:https://satorischool.org
X-WR-CALDESC:Events for Satori School
REFRESH-INTERVAL;VALUE=DURATION:PT1H
X-Robots-Tag:noindex
X-PUBLISHED-TTL:PT1H
BEGIN:VTIMEZONE
TZID:America/Phoenix
BEGIN:STANDARD
TZOFFSETFROM:-0700
TZOFFSETTO:-0700
TZNAME:MST
DTSTART:20230101T000000
END:STANDARD
END:VTIMEZONE
BEGIN:VEVENT
DTSTART;TZID=America/Phoenix:20260226T000000
DTEND;TZID=America/Phoenix:20260227T235959
DTSTAMP:20260422T091349
CREATED:20260127T212452Z
LAST-MODIFIED:20260130T152542Z
UID:10000215-1772064000-1772236799@satorischool.org
SUMMARY:Rodeo Break - No School
DESCRIPTION:
URL:https://satorischool.org/event/rodeo-break-no-school/
LOCATION:Satori School Private Campus\, 3801 N 1st Ave\, Tucson\, Arizona\, 85719\, United States
GEO:32.2760045;-110.9615221
X-APPLE-STRUCTURED-LOCATION;VALUE=URI;X-ADDRESS=Satori School Private Campus 3801 N 1st Ave Tucson Arizona 85719 United States;X-APPLE-RADIUS=500;X-TITLE=3801 N 1st Ave:geo:-110.9615221,32.2760045
END:VEVENT
BEGIN:VEVENT
DTSTART;TZID=America/Phoenix:20260119T000000
DTEND;TZID=America/Phoenix:20260119T235959
DTSTAMP:20260422T091349
CREATED:20260112T152056Z
LAST-MODIFIED:20260115T203706Z
UID:10000214-1768780800-1768867199@satorischool.org
SUMMARY:No School\, Martin Luther King Jr Day
DESCRIPTION:
URL:https://satorischool.org/event/no-school-martin-luther-king-jr-day/
LOCATION:Satori School Charter Campus\, 3727 N 1st Ave.\, Tucson\, AZ\, 85719\, United States
GEO:32.2745607;-110.9615143
X-APPLE-STRUCTURED-LOCATION;VALUE=URI;X-ADDRESS=Satori School Charter Campus 3727 N 1st Ave. Tucson AZ 85719 United States;X-APPLE-RADIUS=500;X-TITLE=3727 N 1st Ave.:geo:-110.9615143,32.2745607
END:VEVENT
BEGIN:VEVENT
DTSTART;TZID=America/Phoenix:20251222T080000
DTEND;TZID=America/Phoenix:20260102T170000
DTSTAMP:20260422T091349
CREATED:20251017T194410Z
LAST-MODIFIED:20251017T194411Z
UID:10000211-1766390400-1767373200@satorischool.org
SUMMARY:Winter Break - No School
DESCRIPTION:
URL:https://satorischool.org/event/winter-break-no-school-2/
LOCATION:Satori School Charter Campus\, 3727 N 1st Ave.\, Tucson\, AZ\, 85719\, United States
GEO:32.2745607;-110.9615143
X-APPLE-STRUCTURED-LOCATION;VALUE=URI;X-ADDRESS=Satori School Charter Campus 3727 N 1st Ave. Tucson AZ 85719 United States;X-APPLE-RADIUS=500;X-TITLE=3727 N 1st Ave.:geo:-110.9615143,32.2745607
END:VEVENT
BEGIN:VEVENT
DTSTART;TZID=America/Phoenix:20251219T130000
DTEND;TZID=America/Phoenix:20251219T130000
DTSTAMP:20260422T091349
CREATED:20251017T194215Z
LAST-MODIFIED:20251017T194217Z
UID:10000210-1766149200-1766149200@satorischool.org
SUMMARY:Grading Day - 1pm Release
DESCRIPTION:
URL:https://satorischool.org/event/grading-day-1pm-release/
LOCATION:Satori School Charter Campus\, 3727 N 1st Ave.\, Tucson\, AZ\, 85719\, United States
GEO:32.2745607;-110.9615143
X-APPLE-STRUCTURED-LOCATION;VALUE=URI;X-ADDRESS=Satori School Charter Campus 3727 N 1st Ave. Tucson AZ 85719 United States;X-APPLE-RADIUS=500;X-TITLE=3727 N 1st Ave.:geo:-110.9615143,32.2745607
END:VEVENT
BEGIN:VEVENT
DTSTART;TZID=America/Phoenix:20251111T000000
DTEND;TZID=America/Phoenix:20251111T235959
DTSTAMP:20260422T091349
CREATED:20251017T193226Z
LAST-MODIFIED:20251017T193228Z
UID:10000207-1762819200-1762905599@satorischool.org
SUMMARY:Veterans Day - No School
DESCRIPTION:
URL:https://satorischool.org/event/veterans-day-no-school/
LOCATION:Satori School Charter Campus\, 3727 N 1st Ave.\, Tucson\, AZ\, 85719\, United States
GEO:32.2745607;-110.9615143
X-APPLE-STRUCTURED-LOCATION;VALUE=URI;X-ADDRESS=Satori School Charter Campus 3727 N 1st Ave. Tucson AZ 85719 United States;X-APPLE-RADIUS=500;X-TITLE=3727 N 1st Ave.:geo:-110.9615143,32.2745607
END:VEVENT
BEGIN:VEVENT
DTSTART;TZID=America/Phoenix:20250801T153000
DTEND;TZID=America/Phoenix:20250801T183000
DTSTAMP:20260422T091349
CREATED:20250624T211926Z
LAST-MODIFIED:20250624T211927Z
UID:10000197-1754062200-1754073000@satorischool.org
SUMMARY:Meet the Teacher
DESCRIPTION:
URL:https://satorischool.org/event/meet-the-teacher/
LOCATION:Satori School Charter Campus\, 3727 N 1st Ave.\, Tucson\, AZ\, 85719\, United States
GEO:32.2745607;-110.9615143
X-APPLE-STRUCTURED-LOCATION;VALUE=URI;X-ADDRESS=Satori School Charter Campus 3727 N 1st Ave. Tucson AZ 85719 United States;X-APPLE-RADIUS=500;X-TITLE=3727 N 1st Ave.:geo:-110.9615143,32.2745607
END:VEVENT
BEGIN:VEVENT
DTSTART;TZID=America/Phoenix:20250521T130000
DTEND;TZID=America/Phoenix:20250521T130000
DTSTAMP:20260422T091349
CREATED:20250422T204843Z
LAST-MODIFIED:20250422T204844Z
UID:10000194-1747832400-1747832400@satorischool.org
SUMMARY:Last Day of Class - 1pm Release
DESCRIPTION:Last day of class for students. Early release at 1:00 pm.
URL:https://satorischool.org/event/last-day-of-class-1pm-release-2/
LOCATION:Satori School Charter Campus\, 3727 N 1st Ave.\, Tucson\, AZ\, 85719\, United States
GEO:32.2745607;-110.9615143
X-APPLE-STRUCTURED-LOCATION;VALUE=URI;X-ADDRESS=Satori School Charter Campus 3727 N 1st Ave. Tucson AZ 85719 United States;X-APPLE-RADIUS=500;X-TITLE=3727 N 1st Ave.:geo:-110.9615143,32.2745607
END:VEVENT
BEGIN:VEVENT
DTSTART;TZID=America/Phoenix:20250418T000000
DTEND;TZID=America/Phoenix:20250418T235959
DTSTAMP:20260422T091349
CREATED:20250415T161721Z
LAST-MODIFIED:20250415T161722Z
UID:10000191-1744934400-1745020799@satorischool.org
SUMMARY:No School
DESCRIPTION:No School\, No Extended Care
URL:https://satorischool.org/event/no-school/
LOCATION:Satori School Charter Campus\, 3727 N 1st Ave.\, Tucson\, AZ\, 85719\, United States
GEO:32.2745607;-110.9615143
X-APPLE-STRUCTURED-LOCATION;VALUE=URI;X-ADDRESS=Satori School Charter Campus 3727 N 1st Ave. Tucson AZ 85719 United States;X-APPLE-RADIUS=500;X-TITLE=3727 N 1st Ave.:geo:-110.9615143,32.2745607
END:VEVENT
BEGIN:VEVENT
DTSTART;TZID=America/Phoenix:20250417T130000
DTEND;TZID=America/Phoenix:20250417T173000
DTSTAMP:20260422T091349
CREATED:20250415T170254Z
LAST-MODIFIED:20250415T170255Z
UID:10000192-1744894800-1744911000@satorischool.org
SUMMARY:1pm Release -Parent Teacher Conferences
DESCRIPTION:No Afterschool Activities\, Extended Care available until 5:45
URL:https://satorischool.org/event/1pm-release-parent-teacher-conferences-3/
LOCATION:Satori School Charter Campus\, 3727 N 1st Ave.\, Tucson\, AZ\, 85719\, United States
GEO:32.2745607;-110.9615143
X-APPLE-STRUCTURED-LOCATION;VALUE=URI;X-ADDRESS=Satori School Charter Campus 3727 N 1st Ave. Tucson AZ 85719 United States;X-APPLE-RADIUS=500;X-TITLE=3727 N 1st Ave.:geo:-110.9615143,32.2745607
END:VEVENT
BEGIN:VEVENT
DTSTART;TZID=America/Phoenix:20250416T130000
DTEND;TZID=America/Phoenix:20250416T173000
DTSTAMP:20260422T091349
CREATED:20250415T161159Z
LAST-MODIFIED:20250415T161200Z
UID:10000190-1744808400-1744824600@satorischool.org
SUMMARY:1pm Release -Parent Teacher Conferences
DESCRIPTION:No Afterschool Activities\, Extended Care available until 5:45
URL:https://satorischool.org/event/1pm-release-parent-teacher-conferences/
LOCATION:Satori School Charter Campus\, 3727 N 1st Ave.\, Tucson\, AZ\, 85719\, United States
GEO:32.2745607;-110.9615143
X-APPLE-STRUCTURED-LOCATION;VALUE=URI;X-ADDRESS=Satori School Charter Campus 3727 N 1st Ave. Tucson AZ 85719 United States;X-APPLE-RADIUS=500;X-TITLE=3727 N 1st Ave.:geo:-110.9615143,32.2745607
END:VEVENT
BEGIN:VEVENT
DTSTART;TZID=America/Phoenix:20250314T000000
DTEND;TZID=America/Phoenix:20250314T235959
DTSTAMP:20260422T091349
CREATED:20250313T184256Z
LAST-MODIFIED:20250314T143403Z
UID:10000188-1741910400-1741996799@satorischool.org
SUMMARY:Satori's 37th Birthday!
DESCRIPTION:Satori celebrates 37 years of creative education for inquisitive children!
URL:https://satorischool.org/event/satoris-27th-birthday/
LOCATION:Satori School Charter Campus\, 3727 N 1st Ave.\, Tucson\, AZ\, 85719\, United States
GEO:32.2745607;-110.9615143
X-APPLE-STRUCTURED-LOCATION;VALUE=URI;X-ADDRESS=Satori School Charter Campus 3727 N 1st Ave. Tucson AZ 85719 United States;X-APPLE-RADIUS=500;X-TITLE=3727 N 1st Ave.:geo:-110.9615143,32.2745607
END:VEVENT
BEGIN:VEVENT
DTSTART;TZID=America/Phoenix:20250303T000000
DTEND;TZID=America/Phoenix:20250307T235959
DTSTAMP:20260422T091349
CREATED:20250211T201033Z
LAST-MODIFIED:20250211T201840Z
UID:10000185-1740960000-1741391999@satorischool.org
SUMMARY:Love of Reading Week
DESCRIPTION:
URL:https://satorischool.org/event/love-of-reading-week-3/
LOCATION:Satori School Private Campus\, 3801 N 1st Ave\, Tucson\, Arizona\, 85719\, United States
GEO:32.2760045;-110.9615221
X-APPLE-STRUCTURED-LOCATION;VALUE=URI;X-ADDRESS=Satori School Private Campus 3801 N 1st Ave Tucson Arizona 85719 United States;X-APPLE-RADIUS=500;X-TITLE=3801 N 1st Ave:geo:-110.9615221,32.2760045
END:VEVENT
BEGIN:VEVENT
DTSTART;TZID=America/Phoenix:20240827T180000
DTEND;TZID=America/Phoenix:20240827T190000
DTSTAMP:20260422T091349
CREATED:20240826T184703Z
LAST-MODIFIED:20240826T185442Z
UID:10000161-1724781600-1724785200@satorischool.org
SUMMARY:Back to School (K-3)
DESCRIPTION:
URL:https://satorischool.org/event/back-to-school-k-3/
LOCATION:Satori School Private Campus\, 3801 N 1st Ave\, Tucson\, Arizona\, 85719\, United States
GEO:32.2760045;-110.9615221
X-APPLE-STRUCTURED-LOCATION;VALUE=URI;X-ADDRESS=Satori School Private Campus 3801 N 1st Ave Tucson Arizona 85719 United States;X-APPLE-RADIUS=500;X-TITLE=3801 N 1st Ave:geo:-110.9615221,32.2760045
END:VEVENT
BEGIN:VEVENT
DTSTART;TZID=America/Phoenix:20240827T080000
DTEND;TZID=America/Phoenix:20240827T084500
DTSTAMP:20260422T091349
CREATED:20240826T184556Z
LAST-MODIFIED:20240826T185831Z
UID:10000164-1724745600-1724748300@satorischool.org
SUMMARY:Back to School (Preschool only)
DESCRIPTION:
URL:https://satorischool.org/event/back-to-school-preschool-only/
LOCATION:Satori School Private Campus\, 3801 N 1st Ave\, Tucson\, Arizona\, 85719\, United States
GEO:32.2760045;-110.9615221
X-APPLE-STRUCTURED-LOCATION;VALUE=URI;X-ADDRESS=Satori School Private Campus 3801 N 1st Ave Tucson Arizona 85719 United States;X-APPLE-RADIUS=500;X-TITLE=3801 N 1st Ave:geo:-110.9615221,32.2760045
END:VEVENT
BEGIN:VEVENT
DTSTART;TZID=America/Phoenix:20240805T080000
DTEND;TZID=America/Phoenix:20240805T083000
DTSTAMP:20260422T091349
CREATED:20240702T192118Z
LAST-MODIFIED:20240702T192120Z
UID:10000158-1722844800-1722846600@satorischool.org
SUMMARY:First Day of School
DESCRIPTION:Class begins at 8:30 for kindergarten through 8th Grade. \n\n\n\nClass Begins at 8:45 for preschool.
URL:https://satorischool.org/event/first-day-of-school/
LOCATION:Satori School Charter Campus\, 3727 N 1st Ave.\, Tucson\, AZ\, 85719\, United States
GEO:32.2745607;-110.9615143
X-APPLE-STRUCTURED-LOCATION;VALUE=URI;X-ADDRESS=Satori School Charter Campus 3727 N 1st Ave. Tucson AZ 85719 United States;X-APPLE-RADIUS=500;X-TITLE=3727 N 1st Ave.:geo:-110.9615143,32.2745607
END:VEVENT
BEGIN:VEVENT
DTSTART;TZID=America/Phoenix:20240522T130000
DTEND;TZID=America/Phoenix:20240522T130000
DTSTAMP:20260422T091349
CREATED:20240520T183244Z
LAST-MODIFIED:20240520T183245Z
UID:10000155-1716382800-1716382800@satorischool.org
SUMMARY:Last day of School - 1pm Release
DESCRIPTION:
URL:https://satorischool.org/event/last-day-of-school-1pm-release/
LOCATION:Satori School Private Campus\, 3801 N 1st Ave\, Tucson\, Arizona\, 85719\, United States
GEO:32.2760045;-110.9615221
X-APPLE-STRUCTURED-LOCATION;VALUE=URI;X-ADDRESS=Satori School Private Campus 3801 N 1st Ave Tucson Arizona 85719 United States;X-APPLE-RADIUS=500;X-TITLE=3801 N 1st Ave:geo:-110.9615221,32.2760045
END:VEVENT
BEGIN:VEVENT
DTSTART;TZID=America/Phoenix:20240521T110000
DTEND;TZID=America/Phoenix:20240521T120000
DTSTAMP:20260422T091349
CREATED:20240520T183117Z
LAST-MODIFIED:20240520T183118Z
UID:10000154-1716289200-1716292800@satorischool.org
SUMMARY:Kindergarten Graduation
DESCRIPTION:Please RSVP with Mindy. mindy@satorischool.org
URL:https://satorischool.org/event/kindergarten-graduation/
LOCATION:Satori School Private Campus\, 3801 N 1st Ave\, Tucson\, Arizona\, 85719\, United States
GEO:32.2760045;-110.9615221
X-APPLE-STRUCTURED-LOCATION;VALUE=URI;X-ADDRESS=Satori School Private Campus 3801 N 1st Ave Tucson Arizona 85719 United States;X-APPLE-RADIUS=500;X-TITLE=3801 N 1st Ave:geo:-110.9615221,32.2760045
END:VEVENT
END:VCALENDAR