BEGIN:VCALENDAR
VERSION:2.0
PRODID:-//Satori School - ECPv6.15.20//NONSGML v1.0//EN
CALSCALE:GREGORIAN
METHOD:PUBLISH
X-WR-CALNAME:Satori School
X-ORIGINAL-URL:https://satorischool.org
X-WR-CALDESC:Events for Satori School
REFRESH-INTERVAL;VALUE=DURATION:PT1H
X-Robots-Tag:noindex
X-PUBLISHED-TTL:PT1H
BEGIN:VTIMEZONE
TZID:America/Phoenix
BEGIN:STANDARD
TZOFFSETFROM:-0700
TZOFFSETTO:-0700
TZNAME:MST
DTSTART:20230101T000000
END:STANDARD
END:VTIMEZONE
BEGIN:VEVENT
DTSTART;TZID=America/Phoenix:20251126T000000
DTEND;TZID=America/Phoenix:20251128T235959
DTSTAMP:20260419T175143
CREATED:20251017T193729Z
LAST-MODIFIED:20251017T193731Z
UID:10000209-1764115200-1764374399@satorischool.org
SUMMARY:Thanksgiving Break - No School
DESCRIPTION:No School\, No Daycare.
URL:https://satorischool.org/event/thanksgiving-break-no-school-2/
LOCATION:Satori School\, 3801 N 1st Ave\, Tucson\, AZ\, 85719\, United States
GEO:32.2760045;-110.9615221
X-APPLE-STRUCTURED-LOCATION;VALUE=URI;X-ADDRESS=Satori School 3801 N 1st Ave Tucson AZ 85719 United States;X-APPLE-RADIUS=500;X-TITLE=3801 N 1st Ave:geo:-110.9615221,32.2760045
END:VEVENT
BEGIN:VEVENT
DTSTART;TZID=America/Phoenix:20241111T000000
DTEND;TZID=America/Phoenix:20241111T235959
DTSTAMP:20260419T175143
CREATED:20241108T163312Z
LAST-MODIFIED:20241108T214846Z
UID:10000173-1731283200-1731369599@satorischool.org
SUMMARY:Veterans Day - No School
DESCRIPTION:No School\, No Extended Care
URL:https://satorischool.org/event/veterans-day/
LOCATION:Satori School\, 3801 N 1st Ave\, Tucson\, AZ\, 85719\, United States
GEO:32.2760045;-110.9615221
X-APPLE-STRUCTURED-LOCATION;VALUE=URI;X-ADDRESS=Satori School 3801 N 1st Ave Tucson AZ 85719 United States;X-APPLE-RADIUS=500;X-TITLE=3801 N 1st Ave:geo:-110.9615221,32.2760045
END:VEVENT
END:VCALENDAR